BEGIN:VCALENDAR
VERSION:2.0
PRODID:-//Empoweriss Expressions Art Studio - ECPv6.15.20//NONSGML v1.0//EN
CALSCALE:GREGORIAN
METHOD:PUBLISH
X-ORIGINAL-URL:https://expressionsartstudio.com
X-WR-CALDESC:Events for Empoweriss Expressions Art Studio
REFRESH-INTERVAL;VALUE=DURATION:PT1H
X-Robots-Tag:noindex
X-PUBLISHED-TTL:PT1H
BEGIN:VTIMEZONE
TZID:America/New_York
BEGIN:DAYLIGHT
TZOFFSETFROM:-0500
TZOFFSETTO:-0400
TZNAME:EDT
DTSTART:20240310T070000
END:DAYLIGHT
BEGIN:STANDARD
TZOFFSETFROM:-0400
TZOFFSETTO:-0500
TZNAME:EST
DTSTART:20241103T060000
END:STANDARD
BEGIN:DAYLIGHT
TZOFFSETFROM:-0500
TZOFFSETTO:-0400
TZNAME:EDT
DTSTART:20250309T070000
END:DAYLIGHT
BEGIN:STANDARD
TZOFFSETFROM:-0400
TZOFFSETTO:-0500
TZNAME:EST
DTSTART:20251102T060000
END:STANDARD
BEGIN:DAYLIGHT
TZOFFSETFROM:-0500
TZOFFSETTO:-0400
TZNAME:EDT
DTSTART:20260308T070000
END:DAYLIGHT
BEGIN:STANDARD
TZOFFSETFROM:-0400
TZOFFSETTO:-0500
TZNAME:EST
DTSTART:20261101T060000
END:STANDARD
END:VTIMEZONE
BEGIN:VEVENT
DTSTART;TZID=America/New_York:20251209T180000
DTEND;TZID=America/New_York:20251209T192000
DTSTAMP:20260423T112336
CREATED:20251204T165700Z
LAST-MODIFIED:20251209T154257Z
UID:2301-1765303200-1765308000@expressionsartstudio.com
SUMMARY:Wreath Ornament Workshop
DESCRIPTION:Sign up here: Eventbrite \nCome join us at 799 N. Court St. Suite 1A for a fun and festive workshop where you can create your own Christmas ornaments! Get into the holiday spirit and unleash your creativity with multiple wreath ornament crafts to choose from. Whether you’re a seasoned crafter or just looking to try something new\, this event is perfect for all skill levels. Bring a friend or come solo – either way\, you’re guaranteed to leave with some beautiful decorations for your tree. Don’t miss out on this opportunity to add a personal touch to your holiday decor!
URL:https://expressionsartstudio.com/event/wreath-ornament-workshop-2/
LOCATION:Expressions Art Studio\, 799 N Court Street Suite 1A\, Medina\, 44256\, United States
END:VEVENT
BEGIN:VEVENT
DTSTART;TZID=America/New_York:20251205T180000
DTEND;TZID=America/New_York:20251205T192000
DTSTAMP:20260423T112336
CREATED:20251204T151943Z
LAST-MODIFIED:20251204T170042Z
UID:2297-1764957600-1764962400@expressionsartstudio.com
SUMMARY:Wreath Ornament Workshop
DESCRIPTION:Sign up here: Eventbrite \nCome join us at 323 S Court St suite 210 for a fun and festive workshop where you can create your own Christmas ornaments! Get into the holiday spirit and unleash your creativity with multiple wreath ornament crafts to choose from. Whether you’re a seasoned crafter or just looking to try something new\, this event is perfect for all skill levels. Bring a friend or come solo – either way\, you’re guaranteed to leave with some beautiful decorations for your tree. Don’t miss out on this opportunity to add a personal touch to your holiday decor! \n \n 
URL:https://expressionsartstudio.com/event/wreath-ornament-workshop/
LOCATION:Expressions Art Studio\, 323 S Court St Suite 210\, Medina\, OH\, 44256\, United States
END:VEVENT
BEGIN:VEVENT
DTSTART;TZID=America/New_York:20251018T130000
DTEND;TZID=America/New_York:20251018T200000
DTSTAMP:20260423T112336
CREATED:20250911T150612Z
LAST-MODIFIED:20251007T183654Z
UID:2047-1760792400-1760817600@expressionsartstudio.com
SUMMARY:Susan Jennings Art Gallery
DESCRIPTION:Browse and shop from Susan Jennings’s hand crafted items!\nCheck out her Etsy shop to see products that may be available during this event: https://www.etsy.com/shop/Tangled3Studios
URL:https://expressionsartstudio.com/event/susan-jennings-art-gallery/
LOCATION:Expressions Art Studio\, 323 S Court St Suite 210\, Medina\, OH\, 44256\, United States
END:VEVENT
BEGIN:VEVENT
DTSTART;TZID=America/New_York:20251004T143000
DTEND;TZID=America/New_York:20251004T160000
DTSTAMP:20260423T112336
CREATED:20250903T142201Z
LAST-MODIFIED:20250918T173424Z
UID:1985-1759588200-1759593600@expressionsartstudio.com
SUMMARY:Paint & Sip at Das Weinhaus
DESCRIPTION:Complete your payment here: Shop \nExpressions Art Studio will be hosting a Paint & Sip activity at Das Weinhaus in Litchfield\, OH! Price includes instructor fee\, supplies\, and a complimentary glass of wine. Participants may bring food (no wine) to pair with wine served at Das Weinhaus. Seating is limited. \nRegister for this relaxing and creative afternoon activity\, sponsored by Expressions Art Studio and Das Weinhaus.
URL:https://expressionsartstudio.com/event/paint-sip-at-das-weinhaus-2/
LOCATION:Das Weinhaus\, 3232 Erhart Road\, Litchfield\, OH\, Ohio\, 44253
END:VEVENT
BEGIN:VEVENT
DTSTART;TZID=America/New_York:20251004T110000
DTEND;TZID=America/New_York:20251004T140000
DTSTAMP:20260423T112336
CREATED:20250911T133704Z
LAST-MODIFIED:20250911T165559Z
UID:2043-1759575600-1759586400@expressionsartstudio.com
SUMMARY:Improvisation on Canvas
DESCRIPTION:Complete your payment here: Shop \nCreatively express yourself as you listen to Jazz music in this painting workshop\, taught by Kathy Kosins!
URL:https://expressionsartstudio.com/event/improvisation-on-canvas/
LOCATION:Expressions Art Studio\, 323 S Court St Suite 210\, Medina\, OH\, 44256\, United States
END:VEVENT
BEGIN:VEVENT
DTSTART;TZID=America/New_York:20250809T140000
DTEND;TZID=America/New_York:20250809T153000
DTSTAMP:20260423T112336
CREATED:20250717T162443Z
LAST-MODIFIED:20250726T190150Z
UID:1606-1754748000-1754753400@expressionsartstudio.com
SUMMARY:Paint & Pastries at Cool Beans Café
DESCRIPTION:Complete your payment here: Shop \nExpressions Art Studio will be hosting a Paint & Pastries event with Cool Beans Café in Medina\, OH! Price includes instructor fee and supplies. Participants can sample menu items from Cool Beans while painting. Seating is limited. \nRegister for this fun and creative evening activity\, sponsored by Expressions Art Studio and Cool Beans Café.
URL:https://expressionsartstudio.com/event/paint-pastries-at-cool-beans-cafe/
LOCATION:Cool Beans Café\, 103 W Liberty St\, Medina\, Ohio\, 44256\, United States
END:VEVENT
BEGIN:VEVENT
DTSTART;TZID=America/New_York:20250803T150000
DTEND;TZID=America/New_York:20250803T210000
DTSTAMP:20260423T112336
CREATED:20250722T173714Z
LAST-MODIFIED:20250724T171239Z
UID:1644-1754233200-1754254800@expressionsartstudio.com
SUMMARY:TC Biggs Art Gallery
DESCRIPTION:Stop by Expressions Art Studio for TC Biggs’s art gallery! Browse and purchase from his beautiful photography collection!
URL:https://expressionsartstudio.com/event/tc-biggs-art-gallery-3/
LOCATION:Expressions Art Studio\, 323 S Court St Suite 210\, Medina\, OH\, 44256\, United States
END:VEVENT
BEGIN:VEVENT
DTSTART;TZID=America/New_York:20250802T150000
DTEND;TZID=America/New_York:20250802T210000
DTSTAMP:20260423T112336
CREATED:20250722T173627Z
LAST-MODIFIED:20250724T171311Z
UID:1642-1754146800-1754168400@expressionsartstudio.com
SUMMARY:TC Biggs Art Gallery
DESCRIPTION:Stop by Expressions Art Studio for TC Biggs’s art gallery! Browse and purchase from his beautiful photography collection!
URL:https://expressionsartstudio.com/event/tc-biggs-art-gallery-2/
LOCATION:Expressions Art Studio\, 323 S Court St Suite 210\, Medina\, OH\, 44256\, United States
END:VEVENT
BEGIN:VEVENT
DTSTART;TZID=America/New_York:20250801T140000
DTEND;TZID=America/New_York:20250801T200000
DTSTAMP:20260423T112336
CREATED:20250722T173509Z
LAST-MODIFIED:20250724T171506Z
UID:1640-1754056800-1754078400@expressionsartstudio.com
SUMMARY:TC Biggs Art Gallery
DESCRIPTION:Stop by Expressions Art Studio for TC Biggs’s art gallery! Browse and purchase from his beautiful photography collection!
URL:https://expressionsartstudio.com/event/tc-biggs-art-gallery/
LOCATION:Expressions Art Studio\, 323 S Court St Suite 210\, Medina\, OH\, 44256\, United States
END:VEVENT
BEGIN:VEVENT
DTSTART;TZID=America/New_York:20250719T143000
DTEND;TZID=America/New_York:20250719T160000
DTSTAMP:20260423T112336
CREATED:20250603T154828Z
LAST-MODIFIED:20250709T172029Z
UID:1251-1752935400-1752940800@expressionsartstudio.com
SUMMARY:Paint & Sip at Das Weinhaus
DESCRIPTION:Complete your payment here: Shop \nExpressions Art Studio will be hosting a Paint & Sip activity at Das Weinhaus in Litchfield\, OH! Price includes instructor fee\, supplies\, and a complimentary glass of wine. Participants may bring food (no wine) to pair with wine served at Das Weinhaus. Seating is limited. \nRegister for this relaxing and creative afternoon activity\, sponsored by Expressions Art Studio and Das Weinhaus.
URL:https://expressionsartstudio.com/event/paint-sip-at-das-weinhaus/
LOCATION:Das Weinhaus\, 3232 Erhart Road\, Litchfield\, OH\, Ohio\, 44253
END:VEVENT
BEGIN:VEVENT
DTSTART;TZID=America/New_York:20250625T190000
DTEND;TZID=America/New_York:20250625T200000
DTSTAMP:20260423T112336
CREATED:20250603T164025Z
LAST-MODIFIED:20250626T170230Z
UID:1286-1750878000-1750881600@expressionsartstudio.com
SUMMARY:Animation 101
DESCRIPTION:Complete your payment here: Shop \nLearn the basics of animation and bring your characters to life! Nick Kardos will be teaching classes how to create their own animations!
URL:https://expressionsartstudio.com/event/animation-101-9/
LOCATION:Expressions Art Studio\, 323 S Court St Suite 210\, Medina\, OH\, 44256\, United States
END:VEVENT
BEGIN:VEVENT
DTSTART;TZID=America/New_York:20250625T170000
DTEND;TZID=America/New_York:20250625T190000
DTSTAMP:20260423T112336
CREATED:20250603T163423Z
LAST-MODIFIED:20250603T163423Z
UID:1278-1750870800-1750878000@expressionsartstudio.com
SUMMARY:Claymation 101
DESCRIPTION:Complete your payment here: Shop \nLearn that basics of claymation using lighting\, cameras\, and stages. Nick Kardos will be teaching classes how to go about creating their own stop motion project!
URL:https://expressionsartstudio.com/event/claymation-101-9/
LOCATION:Expressions Art Studio\, 323 S Court St Suite 210\, Medina\, OH\, 44256\, United States
END:VEVENT
BEGIN:VEVENT
DTSTART;TZID=America/New_York:20250618T190000
DTEND;TZID=America/New_York:20250618T200000
DTSTAMP:20260423T112336
CREATED:20250603T163941Z
LAST-MODIFIED:20250603T163941Z
UID:1284-1750273200-1750276800@expressionsartstudio.com
SUMMARY:Animation 101
DESCRIPTION:Complete your payment here: Shop \nLearn the basics of animation and bring your characters to life! Nick Kardos will be teaching classes how to create their own animations!
URL:https://expressionsartstudio.com/event/animation-101-8/
LOCATION:Expressions Art Studio\, 323 S Court St Suite 210\, Medina\, OH\, 44256\, United States
END:VEVENT
BEGIN:VEVENT
DTSTART;TZID=America/New_York:20250618T170000
DTEND;TZID=America/New_York:20250618T190000
DTSTAMP:20260423T112336
CREATED:20250603T163323Z
LAST-MODIFIED:20250603T163323Z
UID:1276-1750266000-1750273200@expressionsartstudio.com
SUMMARY:Claymation 101
DESCRIPTION:Complete your payment here: Shop \nLearn that basics of claymation using lighting\, cameras\, and stages. Nick Kardos will be teaching classes how to go about creating their own stop motion project!
URL:https://expressionsartstudio.com/event/claymation-101-8/
LOCATION:Expressions Art Studio\, 323 S Court St Suite 210\, Medina\, OH\, 44256\, United States
END:VEVENT
BEGIN:VEVENT
DTSTART;TZID=America/New_York:20250611T190000
DTEND;TZID=America/New_York:20250611T200000
DTSTAMP:20260423T112336
CREATED:20250603T163850Z
LAST-MODIFIED:20250626T170327Z
UID:1282-1749668400-1749672000@expressionsartstudio.com
SUMMARY:Animation 101
DESCRIPTION:Complete your payment here: Shop \nLearn the basics of animation and bring your characters to life! Nick Kardos will be teaching classes how to create their own animations!
URL:https://expressionsartstudio.com/event/animation-101-7/
LOCATION:Expressions Art Studio\, 323 S Court St Suite 210\, Medina\, OH\, 44256\, United States
END:VEVENT
BEGIN:VEVENT
DTSTART;TZID=America/New_York:20250611T170000
DTEND;TZID=America/New_York:20250611T190000
DTSTAMP:20260423T112336
CREATED:20250603T162946Z
LAST-MODIFIED:20250603T162946Z
UID:1272-1749661200-1749668400@expressionsartstudio.com
SUMMARY:Claymation 101
DESCRIPTION:Complete your payment here: Shop \nLearn that basics of claymation using lighting\, cameras\, and stages. Nick Kardos will be teaching classes how to go about creating their own stop motion project!
URL:https://expressionsartstudio.com/event/claymation-101-7/
LOCATION:Expressions Art Studio\, 323 S Court St Suite 210\, Medina\, OH\, 44256\, United States
END:VEVENT
BEGIN:VEVENT
DTSTART;TZID=America/New_York:20250606T180000
DTEND;TZID=America/New_York:20250606T190000
DTSTAMP:20260423T112336
CREATED:20250530T151207Z
LAST-MODIFIED:20250603T160706Z
UID:1203-1749232800-1749236400@expressionsartstudio.com
SUMMARY:Pyrography
DESCRIPTION:Complete your payment here: Shop \nDesign your own wooden art piece! Amber Gable will be teaching this beginner-friendly class on pyrography\, also known as wood burning. \nMinimum age requirement: 16
URL:https://expressionsartstudio.com/event/pyrography-8/
LOCATION:Expressions Art Studio\, 323 S Court St Suite 210\, Medina\, OH\, 44256\, United States
END:VEVENT
BEGIN:VEVENT
DTSTART;TZID=America/New_York:20250606T163000
DTEND;TZID=America/New_York:20250606T173000
DTSTAMP:20260423T112336
CREATED:20250530T150556Z
LAST-MODIFIED:20250603T160638Z
UID:1195-1749227400-1749231000@expressionsartstudio.com
SUMMARY:Kids Crafts
DESCRIPTION:Complete your payment here: Shop \nFun arts and crafts projects for kids! Classes led by Amber Gable.
URL:https://expressionsartstudio.com/event/kids-crafts/
LOCATION:Expressions Art Studio\, 323 S Court St Suite 210\, Medina\, OH\, 44256\, United States
END:VEVENT
BEGIN:VEVENT
DTSTART;TZID=America/New_York:20250604T190000
DTEND;TZID=America/New_York:20250604T200000
DTSTAMP:20260423T112336
CREATED:20250603T163801Z
LAST-MODIFIED:20250603T163801Z
UID:1280-1749063600-1749067200@expressionsartstudio.com
SUMMARY:Animation 101
DESCRIPTION:Complete your payment here: Shop \nLearn the basics of animation and bring your characters to life! Nick Kardos will be teaching classes how to create their own animations!
URL:https://expressionsartstudio.com/event/animation-101-6/
LOCATION:Expressions Art Studio\, 323 S Court St Suite 210\, Medina\, OH\, 44256\, United States
END:VEVENT
BEGIN:VEVENT
DTSTART;TZID=America/New_York:20250604T170000
DTEND;TZID=America/New_York:20250604T190000
DTSTAMP:20260423T112336
CREATED:20250603T162839Z
LAST-MODIFIED:20250603T162839Z
UID:1270-1749056400-1749063600@expressionsartstudio.com
SUMMARY:Claymation 101
DESCRIPTION:Complete your payment here: Shop \nLearn that basics of claymation using lighting\, cameras\, and stages. Nick Kardos will be teaching classes how to go about creating their own stop motion project!
URL:https://expressionsartstudio.com/event/claymation-101-6/
LOCATION:Expressions Art Studio\, 323 S Court St Suite 210\, Medina\, OH\, 44256\, United States
END:VEVENT
BEGIN:VEVENT
DTSTART;TZID=America/New_York:20250531T170000
DTEND;TZID=America/New_York:20250531T180000
DTSTAMP:20260423T112336
CREATED:20250428T143153Z
LAST-MODIFIED:20250603T145754Z
UID:1105-1748710800-1748714400@expressionsartstudio.com
SUMMARY:Character Writing
DESCRIPTION:Complete your payment here: Shop \nCome in for a fun evening and get in touch with your creative side through character writing! You’ll learn about steps you can take in creating your own characters! Classes may follow themes for you to put your own artistic spin on! Jolie Pagan will lead this beginner-friendly\, creative writing class\, and all supplies (notebook/sketchpad\, pencils\, erasers) will be provided!
URL:https://expressionsartstudio.com/event/character-writing-9/
LOCATION:Expressions Art Studio\, 323 S Court St Suite 210\, Medina\, OH\, 44256\, United States
END:VEVENT
BEGIN:VEVENT
DTSTART;TZID=America/New_York:20250531T160000
DTEND;TZID=America/New_York:20250531T170000
DTSTAMP:20260423T112336
CREATED:20250428T142453Z
LAST-MODIFIED:20250603T145815Z
UID:1095-1748707200-1748710800@expressionsartstudio.com
SUMMARY:Character Design
DESCRIPTION:Complete your payment here: Shop \nCome in for a fun evening and get in touch with your creative side through character design! You’ll learn about steps you can take in creating your own characters! Classes may follow themes for you to put your own artistic spin on! Jolie Pagan will lead this beginner-friendly class\, and all supplies (notebook/sketchpad\, pencils\, erasers) will be provided!
URL:https://expressionsartstudio.com/event/character-design-9/
LOCATION:Expressions Art Studio\, 323 S Court St Suite 210\, Medina\, OH\, 44256\, United States
END:VEVENT
BEGIN:VEVENT
DTSTART;TZID=America/New_York:20250530T180000
DTEND;TZID=America/New_York:20250530T190000
DTSTAMP:20260423T112336
CREATED:20250428T141516Z
LAST-MODIFIED:20250428T141516Z
UID:1083-1748628000-1748631600@expressionsartstudio.com
SUMMARY:Pyrography
DESCRIPTION:Complete your payment here: Shop \nDesign your own wooden art piece! Amber Gable will be teaching this beginner-friendly class on pyrography\, also known as wood burning. \nMinimum age requirement: 16
URL:https://expressionsartstudio.com/event/pyrography-7/
LOCATION:Expressions Art Studio\, 323 S Court St Suite 210\, Medina\, OH\, 44256\, United States
END:VEVENT
BEGIN:VEVENT
DTSTART;TZID=America/New_York:20250530T163000
DTEND;TZID=America/New_York:20250530T173000
DTSTAMP:20260423T112336
CREATED:20250428T131941Z
LAST-MODIFIED:20250428T131941Z
UID:1073-1748622600-1748626200@expressionsartstudio.com
SUMMARY:Kids Crafts with Amber
DESCRIPTION:Complete your payment here: Shop \nFun arts and crafts projects for kids! Classes led by Amber Gable.
URL:https://expressionsartstudio.com/event/kids-crafts-with-amber-5/
LOCATION:Expressions Art Studio\, 323 S Court St Suite 210\, Medina\, OH\, 44256\, United States
END:VEVENT
BEGIN:VEVENT
DTSTART;TZID=America/New_York:20250524T150000
DTEND;TZID=America/New_York:20250524T170000
DTSTAMP:20260423T112336
CREATED:20250424T124918Z
LAST-MODIFIED:20250424T131134Z
UID:1047-1748098800-1748106000@expressionsartstudio.com
SUMMARY:Paint with Brielle
DESCRIPTION:Complete your payment here: Shop \nCome join us for a fun and creative afternoon at 323 S Court St! Let your inner artist shine as Brielle guides you through this beautiful painting. No experience necessary – just bring your enthusiasm and we’ll provide all the materials. Whether you’re a seasoned painter or a newbie\, this event is perfect for anyone looking to unwind and get in touch with their artistic side. Don’t miss out on this opportunity to create beautiful art and make some new friends along the way! Feel free to bring your own drinks\, including wine\, to enjoy as you paint!
URL:https://expressionsartstudio.com/event/paint-with-brielle-11/
LOCATION:Expressions Art Studio\, 323 S Court St Suite 210\, Medina\, OH\, 44256\, United States
END:VEVENT
BEGIN:VEVENT
DTSTART;TZID=America/New_York:20250524T120000
DTEND;TZID=America/New_York:20250524T140000
DTSTAMP:20260423T112336
CREATED:20250424T123531Z
LAST-MODIFIED:20250603T145633Z
UID:1037-1748088000-1748095200@expressionsartstudio.com
SUMMARY:Paint with Brielle
DESCRIPTION:Complete your payment here: Shop \nCome join us for a fun and creative afternoon at 323 S Court St! Let your inner artist shine as Brielle guides you through this beautiful painting. No experience necessary – just bring your enthusiasm and we’ll provide all the materials. Whether you’re a seasoned painter or a newbie\, this event is perfect for anyone looking to unwind and get in touch with their artistic side. Don’t miss out on this opportunity to create beautiful art and make some new friends along the way! Feel free to bring your own drinks\, including wine\, to enjoy as you paint!
URL:https://expressionsartstudio.com/event/paint-with-brielle-6/
LOCATION:Expressions Art Studio\, 323 S Court St Suite 210\, Medina\, OH\, 44256\, United States
END:VEVENT
BEGIN:VEVENT
DTSTART;TZID=America/New_York:20250523T180000
DTEND;TZID=America/New_York:20250523T190000
DTSTAMP:20260423T112336
CREATED:20250428T141307Z
LAST-MODIFIED:20250428T141307Z
UID:1081-1748023200-1748026800@expressionsartstudio.com
SUMMARY:Pyrography
DESCRIPTION:Complete your payment here: Shop \nDesign your own wooden art piece! Amber Gable will be teaching this beginner-friendly class on pyrography\, also known as wood burning. \nMinimum age requirement: 16
URL:https://expressionsartstudio.com/event/pyrography-6/
LOCATION:Expressions Art Studio\, 323 S Court St Suite 210\, Medina\, OH\, 44256\, United States
END:VEVENT
BEGIN:VEVENT
DTSTART;TZID=America/New_York:20250523T163000
DTEND;TZID=America/New_York:20250523T173000
DTSTAMP:20260423T112336
CREATED:20250428T131831Z
LAST-MODIFIED:20250428T131831Z
UID:1071-1748017800-1748021400@expressionsartstudio.com
SUMMARY:Kids Crafts with Amber
DESCRIPTION:Complete your payment here: Shop \nFun arts and crafts projects for kids! Classes led by Amber Gable.
URL:https://expressionsartstudio.com/event/kids-crafts-with-amber-4/
LOCATION:Expressions Art Studio\, 323 S Court St Suite 210\, Medina\, OH\, 44256\, United States
END:VEVENT
BEGIN:VEVENT
DTSTART;TZID=America/New_York:20250517T170000
DTEND;TZID=America/New_York:20250517T180000
DTSTAMP:20260423T112336
CREATED:20250428T142924Z
LAST-MODIFIED:20250428T142924Z
UID:1101-1747501200-1747504800@expressionsartstudio.com
SUMMARY:Character Writing
DESCRIPTION:Complete your payment here: Shop \nCome in for a fun evening and get in touch with your creative side through character writing! You’ll learn about steps you can take in creating your own characters! Classes may follow themes for you to put your own artistic spin on! Jolie Pagan will lead this beginner-friendly\, creative writing class\, and all supplies (notebook/sketchpad\, pencils\, erasers) will be provided!
URL:https://expressionsartstudio.com/event/character-writing-7/
LOCATION:Expressions Art Studio\, 323 S Court St Suite 210\, Medina\, OH\, 44256\, United States
END:VEVENT
BEGIN:VEVENT
DTSTART;TZID=America/New_York:20250517T160000
DTEND;TZID=America/New_York:20250517T170000
DTSTAMP:20260423T112336
CREATED:20250428T142214Z
LAST-MODIFIED:20250428T142214Z
UID:1091-1747497600-1747501200@expressionsartstudio.com
SUMMARY:Character Design
DESCRIPTION:Complete your payment here: Shop \nCome in for a fun evening and get in touch with your creative side through character design! You’ll learn about steps you can take in creating your own characters! Classes may follow themes for you to put your own artistic spin on! Jolie Pagan will lead this beginner-friendly class\, and all supplies (notebook/sketchpad\, pencils\, erasers) will be provided!
URL:https://expressionsartstudio.com/event/character-design-7/
LOCATION:Expressions Art Studio\, 323 S Court St Suite 210\, Medina\, OH\, 44256\, United States
END:VEVENT
END:VCALENDAR