BEGIN:VCALENDAR
VERSION:2.0
PRODID:-//Empoweriss Expressions Art Studio - ECPv6.15.20//NONSGML v1.0//EN
CALSCALE:GREGORIAN
METHOD:PUBLISH
X-ORIGINAL-URL:https://expressionsartstudio.com
X-WR-CALDESC:Events for Empoweriss Expressions Art Studio
REFRESH-INTERVAL;VALUE=DURATION:PT1H
X-Robots-Tag:noindex
X-PUBLISHED-TTL:PT1H
BEGIN:VTIMEZONE
TZID:America/New_York
BEGIN:DAYLIGHT
TZOFFSETFROM:-0500
TZOFFSETTO:-0400
TZNAME:EDT
DTSTART:20240310T070000
END:DAYLIGHT
BEGIN:STANDARD
TZOFFSETFROM:-0400
TZOFFSETTO:-0500
TZNAME:EST
DTSTART:20241103T060000
END:STANDARD
BEGIN:DAYLIGHT
TZOFFSETFROM:-0500
TZOFFSETTO:-0400
TZNAME:EDT
DTSTART:20250309T070000
END:DAYLIGHT
BEGIN:STANDARD
TZOFFSETFROM:-0400
TZOFFSETTO:-0500
TZNAME:EST
DTSTART:20251102T060000
END:STANDARD
BEGIN:DAYLIGHT
TZOFFSETFROM:-0500
TZOFFSETTO:-0400
TZNAME:EDT
DTSTART:20260308T070000
END:DAYLIGHT
BEGIN:STANDARD
TZOFFSETFROM:-0400
TZOFFSETTO:-0500
TZNAME:EST
DTSTART:20261101T060000
END:STANDARD
END:VTIMEZONE
BEGIN:VEVENT
DTSTART;TZID=America/New_York:20250531T170000
DTEND;TZID=America/New_York:20250531T180000
DTSTAMP:20260423T135755
CREATED:20250428T143153Z
LAST-MODIFIED:20250603T145754Z
UID:1105-1748710800-1748714400@expressionsartstudio.com
SUMMARY:Character Writing
DESCRIPTION:Complete your payment here: Shop \nCome in for a fun evening and get in touch with your creative side through character writing! You’ll learn about steps you can take in creating your own characters! Classes may follow themes for you to put your own artistic spin on! Jolie Pagan will lead this beginner-friendly\, creative writing class\, and all supplies (notebook/sketchpad\, pencils\, erasers) will be provided!
URL:https://expressionsartstudio.com/event/character-writing-9/
LOCATION:Expressions Art Studio\, 323 S Court St Suite 210\, Medina\, OH\, 44256\, United States
END:VEVENT
BEGIN:VEVENT
DTSTART;TZID=America/New_York:20250531T160000
DTEND;TZID=America/New_York:20250531T170000
DTSTAMP:20260423T135755
CREATED:20250428T142453Z
LAST-MODIFIED:20250603T145815Z
UID:1095-1748707200-1748710800@expressionsartstudio.com
SUMMARY:Character Design
DESCRIPTION:Complete your payment here: Shop \nCome in for a fun evening and get in touch with your creative side through character design! You’ll learn about steps you can take in creating your own characters! Classes may follow themes for you to put your own artistic spin on! Jolie Pagan will lead this beginner-friendly class\, and all supplies (notebook/sketchpad\, pencils\, erasers) will be provided!
URL:https://expressionsartstudio.com/event/character-design-9/
LOCATION:Expressions Art Studio\, 323 S Court St Suite 210\, Medina\, OH\, 44256\, United States
END:VEVENT
BEGIN:VEVENT
DTSTART;TZID=America/New_York:20250530T180000
DTEND;TZID=America/New_York:20250530T190000
DTSTAMP:20260423T135755
CREATED:20250428T141516Z
LAST-MODIFIED:20250428T141516Z
UID:1083-1748628000-1748631600@expressionsartstudio.com
SUMMARY:Pyrography
DESCRIPTION:Complete your payment here: Shop \nDesign your own wooden art piece! Amber Gable will be teaching this beginner-friendly class on pyrography\, also known as wood burning. \nMinimum age requirement: 16
URL:https://expressionsartstudio.com/event/pyrography-7/
LOCATION:Expressions Art Studio\, 323 S Court St Suite 210\, Medina\, OH\, 44256\, United States
END:VEVENT
BEGIN:VEVENT
DTSTART;TZID=America/New_York:20250530T163000
DTEND;TZID=America/New_York:20250530T173000
DTSTAMP:20260423T135755
CREATED:20250428T131941Z
LAST-MODIFIED:20250428T131941Z
UID:1073-1748622600-1748626200@expressionsartstudio.com
SUMMARY:Kids Crafts with Amber
DESCRIPTION:Complete your payment here: Shop \nFun arts and crafts projects for kids! Classes led by Amber Gable.
URL:https://expressionsartstudio.com/event/kids-crafts-with-amber-5/
LOCATION:Expressions Art Studio\, 323 S Court St Suite 210\, Medina\, OH\, 44256\, United States
END:VEVENT
BEGIN:VEVENT
DTSTART;TZID=America/New_York:20250524T150000
DTEND;TZID=America/New_York:20250524T170000
DTSTAMP:20260423T135755
CREATED:20250424T124918Z
LAST-MODIFIED:20250424T131134Z
UID:1047-1748098800-1748106000@expressionsartstudio.com
SUMMARY:Paint with Brielle
DESCRIPTION:Complete your payment here: Shop \nCome join us for a fun and creative afternoon at 323 S Court St! Let your inner artist shine as Brielle guides you through this beautiful painting. No experience necessary – just bring your enthusiasm and we’ll provide all the materials. Whether you’re a seasoned painter or a newbie\, this event is perfect for anyone looking to unwind and get in touch with their artistic side. Don’t miss out on this opportunity to create beautiful art and make some new friends along the way! Feel free to bring your own drinks\, including wine\, to enjoy as you paint!
URL:https://expressionsartstudio.com/event/paint-with-brielle-11/
LOCATION:Expressions Art Studio\, 323 S Court St Suite 210\, Medina\, OH\, 44256\, United States
END:VEVENT
BEGIN:VEVENT
DTSTART;TZID=America/New_York:20250524T120000
DTEND;TZID=America/New_York:20250524T140000
DTSTAMP:20260423T135755
CREATED:20250424T123531Z
LAST-MODIFIED:20250603T145633Z
UID:1037-1748088000-1748095200@expressionsartstudio.com
SUMMARY:Paint with Brielle
DESCRIPTION:Complete your payment here: Shop \nCome join us for a fun and creative afternoon at 323 S Court St! Let your inner artist shine as Brielle guides you through this beautiful painting. No experience necessary – just bring your enthusiasm and we’ll provide all the materials. Whether you’re a seasoned painter or a newbie\, this event is perfect for anyone looking to unwind and get in touch with their artistic side. Don’t miss out on this opportunity to create beautiful art and make some new friends along the way! Feel free to bring your own drinks\, including wine\, to enjoy as you paint!
URL:https://expressionsartstudio.com/event/paint-with-brielle-6/
LOCATION:Expressions Art Studio\, 323 S Court St Suite 210\, Medina\, OH\, 44256\, United States
END:VEVENT
BEGIN:VEVENT
DTSTART;TZID=America/New_York:20250523T180000
DTEND;TZID=America/New_York:20250523T190000
DTSTAMP:20260423T135755
CREATED:20250428T141307Z
LAST-MODIFIED:20250428T141307Z
UID:1081-1748023200-1748026800@expressionsartstudio.com
SUMMARY:Pyrography
DESCRIPTION:Complete your payment here: Shop \nDesign your own wooden art piece! Amber Gable will be teaching this beginner-friendly class on pyrography\, also known as wood burning. \nMinimum age requirement: 16
URL:https://expressionsartstudio.com/event/pyrography-6/
LOCATION:Expressions Art Studio\, 323 S Court St Suite 210\, Medina\, OH\, 44256\, United States
END:VEVENT
BEGIN:VEVENT
DTSTART;TZID=America/New_York:20250523T163000
DTEND;TZID=America/New_York:20250523T173000
DTSTAMP:20260423T135755
CREATED:20250428T131831Z
LAST-MODIFIED:20250428T131831Z
UID:1071-1748017800-1748021400@expressionsartstudio.com
SUMMARY:Kids Crafts with Amber
DESCRIPTION:Complete your payment here: Shop \nFun arts and crafts projects for kids! Classes led by Amber Gable.
URL:https://expressionsartstudio.com/event/kids-crafts-with-amber-4/
LOCATION:Expressions Art Studio\, 323 S Court St Suite 210\, Medina\, OH\, 44256\, United States
END:VEVENT
BEGIN:VEVENT
DTSTART;TZID=America/New_York:20250517T170000
DTEND;TZID=America/New_York:20250517T180000
DTSTAMP:20260423T135755
CREATED:20250428T142924Z
LAST-MODIFIED:20250428T142924Z
UID:1101-1747501200-1747504800@expressionsartstudio.com
SUMMARY:Character Writing
DESCRIPTION:Complete your payment here: Shop \nCome in for a fun evening and get in touch with your creative side through character writing! You’ll learn about steps you can take in creating your own characters! Classes may follow themes for you to put your own artistic spin on! Jolie Pagan will lead this beginner-friendly\, creative writing class\, and all supplies (notebook/sketchpad\, pencils\, erasers) will be provided!
URL:https://expressionsartstudio.com/event/character-writing-7/
LOCATION:Expressions Art Studio\, 323 S Court St Suite 210\, Medina\, OH\, 44256\, United States
END:VEVENT
BEGIN:VEVENT
DTSTART;TZID=America/New_York:20250517T160000
DTEND;TZID=America/New_York:20250517T170000
DTSTAMP:20260423T135755
CREATED:20250428T142214Z
LAST-MODIFIED:20250428T142214Z
UID:1091-1747497600-1747501200@expressionsartstudio.com
SUMMARY:Character Design
DESCRIPTION:Complete your payment here: Shop \nCome in for a fun evening and get in touch with your creative side through character design! You’ll learn about steps you can take in creating your own characters! Classes may follow themes for you to put your own artistic spin on! Jolie Pagan will lead this beginner-friendly class\, and all supplies (notebook/sketchpad\, pencils\, erasers) will be provided!
URL:https://expressionsartstudio.com/event/character-design-7/
LOCATION:Expressions Art Studio\, 323 S Court St Suite 210\, Medina\, OH\, 44256\, United States
END:VEVENT
BEGIN:VEVENT
DTSTART;TZID=America/New_York:20250517T150000
DTEND;TZID=America/New_York:20250517T170000
DTSTAMP:20260423T135755
CREATED:20250424T124800Z
LAST-MODIFIED:20250424T130523Z
UID:1045-1747494000-1747501200@expressionsartstudio.com
SUMMARY:Paint with Brielle
DESCRIPTION:Complete your payment here: Shop \nCome join us for a fun and creative afternoon at 323 S Court St! Let your inner artist shine as Brielle guides you through this beautiful painting. No experience necessary – just bring your enthusiasm and we’ll provide all the materials. Whether you’re a seasoned painter or a newbie\, this event is perfect for anyone looking to unwind and get in touch with their artistic side. Don’t miss out on this opportunity to create beautiful art and make some new friends along the way! Feel free to bring your own drinks\, including wine\, to enjoy as you paint!
URL:https://expressionsartstudio.com/event/paint-with-brielle-10/
LOCATION:Expressions Art Studio\, 323 S Court St Suite 210\, Medina\, OH\, 44256\, United States
END:VEVENT
BEGIN:VEVENT
DTSTART;TZID=America/New_York:20250517T120000
DTEND;TZID=America/New_York:20250517T140000
DTSTAMP:20260423T135755
CREATED:20250424T123341Z
LAST-MODIFIED:20250424T123341Z
UID:1035-1747483200-1747490400@expressionsartstudio.com
SUMMARY:Paint with Brielle
DESCRIPTION:Complete your payment here: Shop \nCome join us for a fun and creative afternoon at 323 S Court St! Let your inner artist shine as Brielle guides you through this beautiful painting. No experience necessary – just bring your enthusiasm and we’ll provide all the materials. Whether you’re a seasoned painter or a newbie\, this event is perfect for anyone looking to unwind and get in touch with their artistic side. Don’t miss out on this opportunity to create beautiful art and make some new friends along the way! Feel free to bring your own drinks\, including wine\, to enjoy as you paint!
URL:https://expressionsartstudio.com/event/paint-with-brielle-5/
LOCATION:Expressions Art Studio\, 323 S Court St Suite 210\, Medina\, OH\, 44256\, United States
END:VEVENT
BEGIN:VEVENT
DTSTART;TZID=America/New_York:20250516T180000
DTEND;TZID=America/New_York:20250516T190000
DTSTAMP:20260423T135755
CREATED:20250428T141205Z
LAST-MODIFIED:20250428T141205Z
UID:1079-1747418400-1747422000@expressionsartstudio.com
SUMMARY:Pyrography
DESCRIPTION:Complete your payment here: Shop \nDesign your own wooden art piece! Amber Gable will be teaching this beginner-friendly class on pyrography\, also known as wood burning. \nMinimum age requirement: 16
URL:https://expressionsartstudio.com/event/pyrography-5/
LOCATION:Expressions Art Studio\, 323 S Court St Suite 210\, Medina\, OH\, 44256\, United States
END:VEVENT
BEGIN:VEVENT
DTSTART;TZID=America/New_York:20250516T163000
DTEND;TZID=America/New_York:20250516T173000
DTSTAMP:20260423T135755
CREATED:20250428T131705Z
LAST-MODIFIED:20250428T131705Z
UID:1069-1747413000-1747416600@expressionsartstudio.com
SUMMARY:Kids Crafts with Amber
DESCRIPTION:Complete your payment here: Shop \nFun arts and crafts projects for kids! Classes led by Amber Gable.
URL:https://expressionsartstudio.com/event/kids-crafts-with-amber-3/
LOCATION:Expressions Art Studio\, 323 S Court St Suite 210\, Medina\, OH\, 44256\, United States
END:VEVENT
BEGIN:VEVENT
DTSTART;TZID=America/New_York:20250514T190000
DTEND;TZID=America/New_York:20250514T200000
DTSTAMP:20260423T135755
CREATED:20250507T131629Z
LAST-MODIFIED:20250507T131629Z
UID:1123-1747249200-1747252800@expressionsartstudio.com
SUMMARY:Animation 101
DESCRIPTION:Complete your payment here: Shop \nLearn the basics of animation and bring your characters to life! Nick Kardos will be teaching classes how to create their own animations!
URL:https://expressionsartstudio.com/event/animation-101-5/
LOCATION:Expressions Art Studio\, 323 S Court St Suite 210\, Medina\, OH\, 44256\, United States
END:VEVENT
BEGIN:VEVENT
DTSTART;TZID=America/New_York:20250514T170000
DTEND;TZID=America/New_York:20250514T190000
DTSTAMP:20260423T135755
CREATED:20250507T131447Z
LAST-MODIFIED:20250507T131447Z
UID:1121-1747242000-1747249200@expressionsartstudio.com
SUMMARY:Claymation 101
DESCRIPTION:Complete your payment here: Shop \nLearn that basics of claymation using lighting\, cameras\, and stages. Nick Kardos will be teaching classes how to go about creating their own stop motion project!
URL:https://expressionsartstudio.com/event/claymation-101-5/
LOCATION:Expressions Art Studio\, 323 S Court St Suite 210\, Medina\, OH\, 44256\, United States
END:VEVENT
BEGIN:VEVENT
DTSTART;TZID=America/New_York:20250510T170000
DTEND;TZID=America/New_York:20250510T180000
DTSTAMP:20260423T135755
CREATED:20250428T142801Z
LAST-MODIFIED:20250428T142801Z
UID:1099-1746896400-1746900000@expressionsartstudio.com
SUMMARY:Character Writing
DESCRIPTION:Complete your payment here: Shop \nCome in for a fun evening and get in touch with your creative side through character writing! You’ll learn about steps you can take in creating your own characters! Classes may follow themes for you to put your own artistic spin on! Jolie Pagan will lead this beginner-friendly\, creative writing class\, and all supplies (notebook/sketchpad\, pencils\, erasers) will be provided!
URL:https://expressionsartstudio.com/event/character-writing-6/
LOCATION:Expressions Art Studio\, 323 S Court St Suite 210\, Medina\, OH\, 44256\, United States
END:VEVENT
BEGIN:VEVENT
DTSTART;TZID=America/New_York:20250510T160000
DTEND;TZID=America/New_York:20250510T170000
DTSTAMP:20260423T135755
CREATED:20250428T142100Z
LAST-MODIFIED:20250428T142100Z
UID:1089-1746892800-1746896400@expressionsartstudio.com
SUMMARY:Character Design
DESCRIPTION:Complete your payment here: Shop \nCome in for a fun evening and get in touch with your creative side through character design! You’ll learn about steps you can take in creating your own characters! Classes may follow themes for you to put your own artistic spin on! Jolie Pagan will lead this beginner-friendly class\, and all supplies (notebook/sketchpad\, pencils\, erasers) will be provided!
URL:https://expressionsartstudio.com/event/character-design-6/
LOCATION:Expressions Art Studio\, 323 S Court St Suite 210\, Medina\, OH\, 44256\, United States
END:VEVENT
BEGIN:VEVENT
DTSTART;TZID=America/New_York:20250509T180000
DTEND;TZID=America/New_York:20250509T190000
DTSTAMP:20260423T135755
CREATED:20250428T140951Z
LAST-MODIFIED:20250428T140951Z
UID:1077-1746813600-1746817200@expressionsartstudio.com
SUMMARY:Pyrography
DESCRIPTION:Complete your payment here: Shop \nDesign your own wooden art piece! Amber Gable will be teaching this beginner-friendly class on pyrography\, also known as wood burning. \nMinimum age requirement: 16
URL:https://expressionsartstudio.com/event/pyrography-4/
LOCATION:Expressions Art Studio\, 323 S Court St Suite 210\, Medina\, OH\, 44256\, United States
END:VEVENT
BEGIN:VEVENT
DTSTART;TZID=America/New_York:20250509T163000
DTEND;TZID=America/New_York:20250509T173000
DTSTAMP:20260423T135755
CREATED:20250428T131549Z
LAST-MODIFIED:20250428T131549Z
UID:1067-1746808200-1746811800@expressionsartstudio.com
SUMMARY:Kids Crafts with Amber
DESCRIPTION:Complete your payment here: Shop \nFun arts and crafts projects for kids! Classes led by Amber Gable.
URL:https://expressionsartstudio.com/event/kids-crafts-with-amber-2/
LOCATION:Expressions Art Studio\, 323 S Court St Suite 210\, Medina\, OH\, 44256\, United States
END:VEVENT
BEGIN:VEVENT
DTSTART;TZID=America/New_York:20250502T180000
DTEND;TZID=America/New_York:20250502T190000
DTSTAMP:20260423T135755
CREATED:20250428T140856Z
LAST-MODIFIED:20250428T140856Z
UID:1075-1746208800-1746212400@expressionsartstudio.com
SUMMARY:Pyrography
DESCRIPTION:Complete your payment here: Shop \nDesign your own wooden art piece! Amber Gable will be teaching this beginner-friendly class on pyrography\, also known as wood burning. \nMinimum age requirement: 16
URL:https://expressionsartstudio.com/event/pyrography-2/
LOCATION:Expressions Art Studio\, 323 S Court St Suite 210\, Medina\, OH\, 44256\, United States
END:VEVENT
BEGIN:VEVENT
DTSTART;TZID=America/New_York:20250502T163000
DTEND;TZID=America/New_York:20250502T173000
DTSTAMP:20260423T135755
CREATED:20250428T131254Z
LAST-MODIFIED:20250428T131336Z
UID:1065-1746203400-1746207000@expressionsartstudio.com
SUMMARY:Kids Crafts with Amber
DESCRIPTION:Complete your payment here: Shop \nFun arts and crafts projects for kids! Classes led by Amber Gable.
URL:https://expressionsartstudio.com/event/kids-crafts-with-amber/
LOCATION:Expressions Art Studio\, 323 S Court St Suite 210\, Medina\, OH\, 44256\, United States
END:VEVENT
BEGIN:VEVENT
DTSTART;TZID=America/New_York:20250430T190000
DTEND;TZID=America/New_York:20250430T200000
DTSTAMP:20260423T135755
CREATED:20250403T174831Z
LAST-MODIFIED:20250410T170717Z
UID:835-1746039600-1746043200@expressionsartstudio.com
SUMMARY:Animation 101
DESCRIPTION:Complete your payment here: Shop \nLearn the basics of animation and bring your characters to life! Nick Kardos will be teaching classes how to create their own animations!
URL:https://expressionsartstudio.com/event/animation-101-4/
LOCATION:Expressions Art Studio\, 323 S Court St Suite 210\, Medina\, OH\, 44256\, United States
END:VEVENT
BEGIN:VEVENT
DTSTART;TZID=America/New_York:20250430T170000
DTEND;TZID=America/New_York:20250430T190000
DTSTAMP:20260423T135755
CREATED:20250403T174542Z
LAST-MODIFIED:20250409T181057Z
UID:829-1746032400-1746039600@expressionsartstudio.com
SUMMARY:Claymation 101
DESCRIPTION:Complete your payment here: Shop \nLearn that basics of claymation using lighting\, cameras\, and stages. Nick Kardos will be teaching classes how to go about creating their own stop motion project!
URL:https://expressionsartstudio.com/event/claymation-101-4/
LOCATION:Expressions Art Studio\, 323 S Court St Suite 210\, Medina\, OH\, 44256\, United States
END:VEVENT
BEGIN:VEVENT
DTSTART;TZID=America/New_York:20250428T173000
DTEND;TZID=America/New_York:20250428T190000
DTSTAMP:20260423T135755
CREATED:20250403T173854Z
LAST-MODIFIED:20250410T171534Z
UID:817-1745861400-1745866800@expressionsartstudio.com
SUMMARY:Art Styles – Cubism
DESCRIPTION:Complete your payment here: Shop \nPaint and learn a different art style each week! This week’s theme is cubism! Classes led by Ashley Huston. \n 
URL:https://expressionsartstudio.com/event/art-styles-painting-4/
LOCATION:Expressions Art Studio\, 323 S Court St Suite 210\, Medina\, OH\, 44256\, United States
END:VEVENT
BEGIN:VEVENT
DTSTART;TZID=America/New_York:20250428T170000
DTEND;TZID=America/New_York:20250428T180000
DTSTAMP:20260423T135755
CREATED:20250424T131927Z
LAST-MODIFIED:20250424T132125Z
UID:1057-1745859600-1745863200@expressionsartstudio.com
SUMMARY:Craft for a Cause: Get Well Cards
DESCRIPTION:Make handmade cards while having fun and brightening people’s day! Cards will be donated to patients at the Cleveland Clinic Medina Hospital. Whether you’re a seasoned crafter or a beginner\, this event is perfect for anyone looking to have fun and make a difference. So mark your calendars and get ready to craft for a cause! All materials are provided for free by Expressions Art Studio! Just show up ready to have fun!
URL:https://expressionsartstudio.com/event/craft-for-a-cause-get-well-cards/
LOCATION:Expressions Art Studio\, 323 S Court St Suite 210\, Medina\, OH\, 44256\, United States
END:VEVENT
BEGIN:VEVENT
DTSTART;TZID=America/New_York:20250427T120000
DTEND;TZID=America/New_York:20250427T140000
DTSTAMP:20260423T135755
CREATED:20250403T182427Z
LAST-MODIFIED:20250421T132545Z
UID:892-1745755200-1745762400@expressionsartstudio.com
SUMMARY:Decades Painting
DESCRIPTION:Complete your payment here: Shop \nPaint using art styles from the 1900s to the 200os! Each week \, classes focus on a different decade! Classes led by Victoria Gildone.
URL:https://expressionsartstudio.com/event/decades-painting-3/
LOCATION:Expressions Art Studio\, 323 S Court St Suite 210\, Medina\, OH\, 44256\, United States
END:VEVENT
BEGIN:VEVENT
DTSTART;TZID=America/New_York:20250427T120000
DTEND;TZID=America/New_York:20250427T130000
DTSTAMP:20260423T135755
CREATED:20250403T182121Z
LAST-MODIFIED:20250421T132626Z
UID:886-1745755200-1745758800@expressionsartstudio.com
SUMMARY:Scrapbooking
DESCRIPTION:Complete your payment here: Shop \nUsing photographs\, magazines\, and other materials\, create and personalize your own scrapbook! Classes led by Kathleen Thomas.
URL:https://expressionsartstudio.com/event/scrapbooking-3/
LOCATION:Expressions Art Studio\, 323 S Court St Suite 210\, Medina\, OH\, 44256\, United States
END:VEVENT
BEGIN:VEVENT
DTSTART;TZID=America/New_York:20250427T110000
DTEND;TZID=America/New_York:20250427T120000
DTSTAMP:20260423T135755
CREATED:20250403T181950Z
LAST-MODIFIED:20250409T200752Z
UID:882-1745751600-1745755200@expressionsartstudio.com
SUMMARY:Bakery Decorating
DESCRIPTION:Complete your payment here: Shop \nGet creative with frosting\, sprinkles\, and other toppings! Decorate desserts with Kathleen Thomas.
URL:https://expressionsartstudio.com/event/bakery-decorating-3/
LOCATION:Expressions Art Studio\, 323 S Court St Suite 210\, Medina\, OH\, 44256\, United States
END:VEVENT
BEGIN:VEVENT
DTSTART;TZID=America/New_York:20250426T170000
DTEND;TZID=America/New_York:20250426T180000
DTSTAMP:20260423T135755
CREATED:20250403T181612Z
LAST-MODIFIED:20250403T181612Z
UID:878-1745686800-1745690400@expressionsartstudio.com
SUMMARY:Character Writing
DESCRIPTION:Complete your payment here: Shop \nCome in for a fun evening and get in touch with your creative side through character writing! You’ll learn about steps you can take in creating your own characters! Classes may follow themes for you to put your own artistic spin on! Jolie Pagan will lead this beginner-friendly\, creative writing class\, and all supplies (notebook/sketchpad\, pencils\, erasers) will be provided!
URL:https://expressionsartstudio.com/event/character-writing-4/
LOCATION:Expressions Art Studio\, 323 S Court St Suite 210\, Medina\, OH\, 44256\, United States
END:VEVENT
END:VCALENDAR