BEGIN:VCALENDAR
VERSION:2.0
PRODID:-//Empoweriss Expressions Art Studio - ECPv6.15.20//NONSGML v1.0//EN
CALSCALE:GREGORIAN
METHOD:PUBLISH
X-WR-CALNAME:Empoweriss Expressions Art Studio
X-ORIGINAL-URL:https://expressionsartstudio.com
X-WR-CALDESC:Events for Empoweriss Expressions Art Studio
REFRESH-INTERVAL;VALUE=DURATION:PT1H
X-Robots-Tag:noindex
X-PUBLISHED-TTL:PT1H
BEGIN:VTIMEZONE
TZID:America/New_York
BEGIN:DAYLIGHT
TZOFFSETFROM:-0500
TZOFFSETTO:-0400
TZNAME:EDT
DTSTART:20240310T070000
END:DAYLIGHT
BEGIN:STANDARD
TZOFFSETFROM:-0400
TZOFFSETTO:-0500
TZNAME:EST
DTSTART:20241103T060000
END:STANDARD
BEGIN:DAYLIGHT
TZOFFSETFROM:-0500
TZOFFSETTO:-0400
TZNAME:EDT
DTSTART:20250309T070000
END:DAYLIGHT
BEGIN:STANDARD
TZOFFSETFROM:-0400
TZOFFSETTO:-0500
TZNAME:EST
DTSTART:20251102T060000
END:STANDARD
BEGIN:DAYLIGHT
TZOFFSETFROM:-0500
TZOFFSETTO:-0400
TZNAME:EDT
DTSTART:20260308T070000
END:DAYLIGHT
BEGIN:STANDARD
TZOFFSETFROM:-0400
TZOFFSETTO:-0500
TZNAME:EST
DTSTART:20261101T060000
END:STANDARD
END:VTIMEZONE
BEGIN:VEVENT
DTSTART;TZID=America/New_York:20250409T170000
DTEND;TZID=America/New_York:20250409T190000
DTSTAMP:20260423T222435
CREATED:20250402T184439Z
LAST-MODIFIED:20250409T182052Z
UID:799-1744218000-1744225200@expressionsartstudio.com
SUMMARY:Claymation 101
DESCRIPTION:Complete your payment here: Shop \nLearn that basics of claymation using lighting\, cameras\, and stages. Nick Kardos will be teaching classes how to go about creating their own stop motion project!
URL:https://expressionsartstudio.com/event/claymation-101/
LOCATION:Expressions Art Studio\, 323 S Court St Suite 210\, Medina\, OH\, 44256\, United States
END:VEVENT
BEGIN:VEVENT
DTSTART;TZID=America/New_York:20250409T160000
DTEND;TZID=America/New_York:20250409T170000
DTSTAMP:20260423T222435
CREATED:20250407T144342Z
LAST-MODIFIED:20250409T182306Z
UID:914-1744214400-1744218000@expressionsartstudio.com
SUMMARY:Geography Club
DESCRIPTION:Complete your payment here: Shop \nKids learn about the world map and how it has changed over the years. Through arts and crafts\, Tanya Gogolin will be teaching students about various countries around the world!
URL:https://expressionsartstudio.com/event/geography-club/
LOCATION:Expressions Art Studio\, 323 S Court St Suite 210\, Medina\, OH\, 44256\, United States
END:VEVENT
BEGIN:VEVENT
DTSTART;TZID=America/New_York:20250409T150000
DTEND;TZID=America/New_York:20250409T160000
DTSTAMP:20260423T222435
CREATED:20250404T161910Z
LAST-MODIFIED:20250410T172104Z
UID:904-1744210800-1744214400@expressionsartstudio.com
SUMMARY:Gardening Art
DESCRIPTION:Complete your payment here: Shop \nFun\, garden-related arts and crafts projects for kids! Classes led by Tanya Gogolin.
URL:https://expressionsartstudio.com/event/gardening-art/
LOCATION:Expressions Art Studio\, 323 S Court St Suite 210\, Medina\, OH\, 44256\, United States
END:VEVENT
BEGIN:VEVENT
DTSTART;TZID=America/New_York:20250409T120000
DTEND;TZID=America/New_York:20250409T130000
DTSTAMP:20260423T222435
CREATED:20250402T184047Z
LAST-MODIFIED:20250409T203651Z
UID:797-1744200000-1744203600@expressionsartstudio.com
SUMMARY:Cultural Art
DESCRIPTION:Complete your payment here: Shop \nLearn about and create art from various cultures! Classes taught by Selah Sloan.
URL:https://expressionsartstudio.com/event/cultural-art/
LOCATION:Expressions Art Studio\, 323 S Court St Suite 210\, Medina\, OH\, 44256\, United States
END:VEVENT
BEGIN:VEVENT
DTSTART;TZID=America/New_York:20250405T170000
DTEND;TZID=America/New_York:20250405T180000
DTSTAMP:20260423T222435
CREATED:20250331T183958Z
LAST-MODIFIED:20250331T183958Z
UID:787-1743872400-1743876000@expressionsartstudio.com
SUMMARY:Character Writing
DESCRIPTION:Complete your payment here: Shop \nCome in for a fun evening and get in touch with your creative side through character writing! You’ll learn about steps you can take in creating your own characters! Classes may follow themes for you to put your own artistic spin on! Jolie Pagan will lead this beginner-friendly\, creative writing class\, and all supplies (notebook/sketchpad\, pencils\, erasers) will be provided!
URL:https://expressionsartstudio.com/event/character-writing/
LOCATION:Expressions Art Studio\, 323 S Court St Suite 210\, Medina\, OH\, 44256\, United States
END:VEVENT
BEGIN:VEVENT
DTSTART;TZID=America/New_York:20250405T160000
DTEND;TZID=America/New_York:20250405T170000
DTSTAMP:20260423T222435
CREATED:20250331T183822Z
LAST-MODIFIED:20250331T183822Z
UID:785-1743868800-1743872400@expressionsartstudio.com
SUMMARY:Character Design
DESCRIPTION:Complete your payment here: Shop \nCome in for a fun evening and get in touch with your creative side through character design! You’ll learn about steps you can take in creating your own characters! Classes may follow themes for you to put your own artistic spin on! Jolie Pagan will lead this beginner-friendly class\, and all supplies (notebook/sketchpad\, pencils\, erasers) will be provided!
URL:https://expressionsartstudio.com/event/character-design/
LOCATION:Expressions Art Studio\, 323 S Court St Suite 210\, Medina\, OH\, 44256\, United States
END:VEVENT
BEGIN:VEVENT
DTSTART;TZID=America/New_York:20250405T150000
DTEND;TZID=America/New_York:20250405T170000
DTSTAMP:20260423T222435
CREATED:20250328T163245Z
LAST-MODIFIED:20250403T184702Z
UID:772-1743865200-1743872400@expressionsartstudio.com
SUMMARY:Paint with Brielle
DESCRIPTION:Complete your payment here: Shop \nEaster-themed painting class! \nCome join us for a fun and creative afternoon at 323 S Court St! Let your inner artist shine as Brielle guides you through this beautiful painting. No experience necessary – just bring your enthusiasm and we’ll provide all the materials. Whether you’re a seasoned painter or a newbie\, this event is perfect for anyone looking to unwind and get in touch with their artistic side. Don’t miss out on this opportunity to create beautiful art and make some new friends along the way! Feel free to bring your own drinks\, including wine\, to enjoy as you paint! \n     
URL:https://expressionsartstudio.com/event/paint-with-brielle-3-5/
LOCATION:Expressions Art Studio\, 323 S Court St Suite 210\, Medina\, OH\, 44256\, United States
END:VEVENT
BEGIN:VEVENT
DTSTART;TZID=America/New_York:20250405T140000
DTEND;TZID=America/New_York:20250405T160000
DTSTAMP:20260423T222435
CREATED:20250328T165352Z
LAST-MODIFIED:20250328T171414Z
UID:782-1743861600-1743868800@expressionsartstudio.com
SUMMARY:Beginner Crochet Class
DESCRIPTION:Complete your payment here: Shop \nJoin us in a beginner crocheting class\, led by Tina Stewart\, owner of The Wooly Appalachian! \nIn this class\, we’ll learn how to chain\, single crochet\, double crochet\, and even make a granny square! Come in to meet new people\, pick up a new hobby\, and create your own crochet piece! All materials will be provided!
URL:https://expressionsartstudio.com/event/beginner-crochet-class-2/
LOCATION:Expressions Art Studio\, 323 S Court St Suite 210\, Medina\, OH\, 44256\, United States
END:VEVENT
BEGIN:VEVENT
DTSTART;TZID=America/New_York:20250405T120000
DTEND;TZID=America/New_York:20250405T140000
DTSTAMP:20260423T222435
CREATED:20250328T163052Z
LAST-MODIFIED:20250403T184709Z
UID:770-1743854400-1743861600@expressionsartstudio.com
SUMMARY:Paint with Brielle
DESCRIPTION:Complete your payment here: Shop \nEaster-themed painting class! \nCome join us for a fun and creative afternoon at 323 S Court St! Let your inner artist shine as Brielle guides you through this beautiful painting. No experience necessary – just bring your enthusiasm and we’ll provide all the materials. Whether you’re a seasoned painter or a newbie\, this event is perfect for anyone looking to unwind and get in touch with their artistic side. Don’t miss out on this opportunity to create beautiful art and make some new friends along the way! Feel free to bring your own drinks\, including wine\, to enjoy as you paint! \n     
URL:https://expressionsartstudio.com/event/paint-with-brielle-12-2/
LOCATION:Expressions Art Studio\, 323 S Court St Suite 210\, Medina\, OH\, 44256\, United States
END:VEVENT
BEGIN:VEVENT
DTSTART;TZID=America/New_York:20250322T140000
DTEND;TZID=America/New_York:20250322T160000
DTSTAMP:20260423T222435
CREATED:20250303T181800Z
LAST-MODIFIED:20250305T175039Z
UID:650-1742652000-1742659200@expressionsartstudio.com
SUMMARY:Beginner Crochet Class
DESCRIPTION:Complete your payment here: Shop \nJoin us on Saturday\, March 22nd in a beginner crocheting class\, led by Tina Stewart\, owner of The Wooly Appalachian! \nIn this class\, we’ll learn how to chain\, single crochet\, double crochet\, and even make a granny square! Come in to meet new people\, pick up a new hobby\, and create your own crochet piece! We’ll provide all the materials. \n \n 
URL:https://expressionsartstudio.com/event/beginner-crochet-class/
LOCATION:Expressions Art Studio\, 323 S Court St Suite 210\, Medina\, OH\, 44256\, United States
END:VEVENT
BEGIN:VEVENT
DTSTART;TZID=America/New_York:20250308T150000
DTEND;TZID=America/New_York:20250308T170000
DTSTAMP:20260423T222435
CREATED:20250226T214159Z
LAST-MODIFIED:20250303T180429Z
UID:632-1741446000-1741453200@expressionsartstudio.com
SUMMARY:Paint with Brielle! (Cityscape)
DESCRIPTION:Complete your payment here: Shop \nCity sunset painting class! \nCome join us for a fun and creative afternoon at 323 S Court St! Let your inner artist shine as Brielle guides you through this beautiful painting. No experience necessary – just bring your enthusiasm and we’ll provide all the materials. Whether you’re a seasoned painter or a newbie\, this event is perfect for anyone looking to unwind and get in touch with their artistic side. Don’t miss out on this opportunity to create beautiful art and make some new friends along the way! Feel free to bring your own drinks\, including wine\, to enjoy as you paint!
URL:https://expressionsartstudio.com/event/paintwithbrielle2/
LOCATION:Expressions Art Studio\, 323 S Court St Suite 210\, Medina\, OH\, 44256\, United States
END:VEVENT
BEGIN:VEVENT
DTSTART;TZID=America/New_York:20250308T120000
DTEND;TZID=America/New_York:20250308T140000
DTSTAMP:20260423T222435
CREATED:20250226T213648Z
LAST-MODIFIED:20250303T180444Z
UID:630-1741435200-1741442400@expressionsartstudio.com
SUMMARY:Paint with Brielle! (Cityscape)
DESCRIPTION:Complete your payment here: Shop \nCity sunset painting class! \nCome join us for a fun and creative afternoon at 323 S Court St! Let your inner artist shine as Brielle guides you through this beautiful painting. No experience necessary – just bring your enthusiasm and we’ll provide all the materials. Whether you’re a seasoned painter or a newbie\, this event is perfect for anyone looking to unwind and get in touch with their artistic side. Don’t miss out on this opportunity to create beautiful art and make some new friends along the way! Feel free to bring your own drinks\, including wine\, to enjoy as you paint!
URL:https://expressionsartstudio.com/event/paintwithbrielle/
LOCATION:Expressions Art Studio\, 323 S Court St Suite 210\, Medina\, OH\, 44256\, United States
END:VEVENT
BEGIN:VEVENT
DTSTART;TZID=America/New_York:20250222T150000
DTEND;TZID=America/New_York:20250222T173000
DTSTAMP:20260423T222435
CREATED:20250213T173437Z
LAST-MODIFIED:20250219T165529Z
UID:426-1740236400-1740245400@expressionsartstudio.com
SUMMARY:Paint with Brielle! (Sharks)
DESCRIPTION:Complete your payment here: Shop \nSharks between rocks painting class! \nCome join us for a fun and creative afternoon at 323 S Court St! Let your inner artist shine as Brielle guides you through painting a beautiful ocean scene. No experience necessary – just bring your enthusiasm and we’ll provide all the materials. Whether you’re a seasoned painter or a newbie\, this event is perfect for anyone looking to unwind and get in touch with their artistic side. Don’t miss out on this opportunity to create beautiful art and make some new friends along the way! Feel free to bring your own drinks\, including wine\, to enjoy as you paint!
URL:https://expressionsartstudio.com/event/paint-with-brielle-2/
LOCATION:Expressions Art Studio\, 323 S Court St Suite 210\, Medina\, OH\, 44256\, United States
CATEGORIES:Painting
END:VEVENT
BEGIN:VEVENT
DTSTART;TZID=America/New_York:20250222T120000
DTEND;TZID=America/New_York:20250222T143000
DTSTAMP:20260423T222435
CREATED:20250213T172427Z
LAST-MODIFIED:20250219T165610Z
UID:420-1740225600-1740234600@expressionsartstudio.com
SUMMARY:Paint with Brielle! (Manta rays)
DESCRIPTION:Complete your payment here: Shop \nManta ray painting class! \nCome join us for a fun and creative afternoon at 323 S Court St! Let your inner artist shine as Brielle guides you through painting a beautiful ocean scene. No experience necessary – just bring your enthusiasm and we’ll provide all the materials. Whether you’re a seasoned painter or a newbie\, this event is perfect for anyone looking to unwind and get in touch with their artistic side. Don’t miss out on this opportunity to create beautiful art and make some new friends along the way! Feel free to bring your own drinks\, including wine\, to enjoy as you paint! \n \n 
URL:https://expressionsartstudio.com/event/paint-with-brielle/
LOCATION:Expressions Art Studio\, 323 S Court St Suite 210\, Medina\, OH\, 44256\, United States
CATEGORIES:Painting
END:VEVENT
END:VCALENDAR